BEGIN:VCALENDAR
VERSION:2.0
PRODID:-//The Links at Brunello - ECPv6.15.17.1//NONSGML v1.0//EN
CALSCALE:GREGORIAN
METHOD:PUBLISH
X-WR-CALNAME:The Links at Brunello
X-ORIGINAL-URL:https://www.thelinksatbrunello.com
X-WR-CALDESC:Events for The Links at Brunello
REFRESH-INTERVAL;VALUE=DURATION:PT1H
X-Robots-Tag:noindex
X-PUBLISHED-TTL:PT1H
BEGIN:VTIMEZONE
TZID:America/Halifax
BEGIN:DAYLIGHT
TZOFFSETFROM:-0400
TZOFFSETTO:-0300
TZNAME:ADT
DTSTART:20250309T060000
END:DAYLIGHT
BEGIN:STANDARD
TZOFFSETFROM:-0300
TZOFFSETTO:-0400
TZNAME:AST
DTSTART:20251102T050000
END:STANDARD
BEGIN:DAYLIGHT
TZOFFSETFROM:-0400
TZOFFSETTO:-0300
TZNAME:ADT
DTSTART:20260308T060000
END:DAYLIGHT
BEGIN:STANDARD
TZOFFSETFROM:-0300
TZOFFSETTO:-0400
TZNAME:AST
DTSTART:20261101T050000
END:STANDARD
BEGIN:DAYLIGHT
TZOFFSETFROM:-0400
TZOFFSETTO:-0300
TZNAME:ADT
DTSTART:20270314T060000
END:DAYLIGHT
BEGIN:STANDARD
TZOFFSETFROM:-0300
TZOFFSETTO:-0400
TZNAME:AST
DTSTART:20271107T050000
END:STANDARD
END:VTIMEZONE
BEGIN:VEVENT
DTSTART;VALUE=DATE:20260715
DTEND;VALUE=DATE:20260716
DTSTAMP:20260421T145244
CREATED:20260314T183638Z
LAST-MODIFIED:20260314T184500Z
UID:10003402-1784073600-1784159999@www.thelinksatbrunello.com
SUMMARY:Men's League
DESCRIPTION:Our Men’s League Nights bring together great golf\, friendly competition\, and a lively social atmosphere.\nWhether you’re chasing a low score or just enjoying the round with friends\, it’s the perfect midweek escape filled with great shots\, laughs\, and post-round stories. \nFor more information on registering contact: \nChris Carlaw | Director of Golf\nccarlaw@thelinksatbrunello.com
URL:https://www.thelinksatbrunello.com/brunello-event/mens-league/2026-07-15
LOCATION:The Links at Brunello\, 120 Brunello Blvd.\, Timberlea\, Nova Scotia\, Canada
ATTACH;FMTTYPE=image/jpeg:https://www.thelinksatbrunello.com/wp-content/uploads/2026/03/CAMPAIGN-MENS.jpg
END:VEVENT
BEGIN:VEVENT
DTSTART;VALUE=DATE:20260717
DTEND;VALUE=DATE:20260718
DTSTAMP:20260421T145244
CREATED:20260106T133918Z
LAST-MODIFIED:20260106T133918Z
UID:10003250-1784275200-1784307600@www.thelinksatbrunello.com
SUMMARY:Corporate Event - Blackout Date
DESCRIPTION:
URL:https://www.thelinksatbrunello.com/brunello-event/corporate-event-blackout-date/2026-07-17
LOCATION:The Links at Brunello\, 120 Brunello Blvd.\, Timberlea\, Nova Scotia\, Canada
END:VEVENT
BEGIN:VEVENT
DTSTART;TZID=America/Halifax:20260717T173000
DTEND;TZID=America/Halifax:20260717T203000
DTSTAMP:20260421T145244
CREATED:20260106T131910Z
LAST-MODIFIED:20260106T131910Z
UID:10003234-1784309400-1784320200@www.thelinksatbrunello.com
SUMMARY:Live Music ft. Sandy Bottom
DESCRIPTION:Join us Friday evenings from 5:30-8:30pm for Live Music featuring Local Talent! \nTo reserve a table call 902.876.3758 or email nineteen@thelinksatbrunello.com
URL:https://www.thelinksatbrunello.com/brunello-event/live-music-ft-sandy-bottom-5/2026-07-17
LOCATION:The Links at Brunello\, 120 Brunello Blvd.\, Timberlea\, Nova Scotia\, Canada
ATTACH;FMTTYPE=image/jpeg:https://www.thelinksatbrunello.com/wp-content/uploads/2025/11/6.jpg
END:VEVENT
BEGIN:VEVENT
DTSTART;VALUE=DATE:20260720
DTEND;VALUE=DATE:20260721
DTSTAMP:20260421T145244
CREATED:20260314T183402Z
LAST-MODIFIED:20260314T184306Z
UID:10003331-1784505600-1784591999@www.thelinksatbrunello.com
SUMMARY:Senior League
DESCRIPTION:Our Senior League is all about enjoying the game\, the camaraderie\, and the beautiful surroundings at Brunello.\nWith a relaxed pace and great company\, it’s a fantastic way to stay active and share the love of golf with fellow players.\n\nFor more information on registering contact: \nChris Carlaw | Director of Golf\nccarlaw@thelinksatbrunello.com
URL:https://www.thelinksatbrunello.com/brunello-event/senior-league/2026-07-20
LOCATION:The Links at Brunello\, 120 Brunello Blvd.\, Timberlea\, Nova Scotia\, Canada
ATTACH;FMTTYPE=image/jpeg:https://www.thelinksatbrunello.com/wp-content/uploads/2026/03/CAMPAIGN-SENIOR.jpg
END:VEVENT
BEGIN:VEVENT
DTSTART;VALUE=DATE:20260721
DTEND;VALUE=DATE:20260722
DTSTAMP:20260421T145244
CREATED:20260314T183454Z
LAST-MODIFIED:20260314T184423Z
UID:10003367-1784592000-1784678399@www.thelinksatbrunello.com
SUMMARY:Ladies League
DESCRIPTION:Our Ladies League Nights offer a welcoming and fun environment where golfers of all skill levels can enjoy the game together.\nIt’s the perfect opportunity to connect with friends\, improve your game\, and spend a beautiful evening on the course.\n\nFor more information on registering contact: \nChris Carlaw | Director of Golf\nccarlaw@thelinksatbrunello.com
URL:https://www.thelinksatbrunello.com/brunello-event/ladies-league/2026-07-21
LOCATION:The Links at Brunello\, 120 Brunello Blvd.\, Timberlea\, Nova Scotia\, Canada
ATTACH;FMTTYPE=image/jpeg:https://www.thelinksatbrunello.com/wp-content/uploads/2026/03/CAMPAIGN-LADIES.jpg
END:VEVENT
BEGIN:VEVENT
DTSTART;VALUE=DATE:20260722
DTEND;VALUE=DATE:20260723
DTSTAMP:20260421T145244
CREATED:20260314T183638Z
LAST-MODIFIED:20260314T184500Z
UID:10003403-1784678400-1784764799@www.thelinksatbrunello.com
SUMMARY:Men's League
DESCRIPTION:Our Men’s League Nights bring together great golf\, friendly competition\, and a lively social atmosphere.\nWhether you’re chasing a low score or just enjoying the round with friends\, it’s the perfect midweek escape filled with great shots\, laughs\, and post-round stories. \nFor more information on registering contact: \nChris Carlaw | Director of Golf\nccarlaw@thelinksatbrunello.com
URL:https://www.thelinksatbrunello.com/brunello-event/mens-league/2026-07-22
LOCATION:The Links at Brunello\, 120 Brunello Blvd.\, Timberlea\, Nova Scotia\, Canada
ATTACH;FMTTYPE=image/jpeg:https://www.thelinksatbrunello.com/wp-content/uploads/2026/03/CAMPAIGN-MENS.jpg
END:VEVENT
BEGIN:VEVENT
DTSTART;VALUE=DATE:20260723
DTEND;VALUE=DATE:20260724
DTSTAMP:20260421T145244
CREATED:20260106T133918Z
LAST-MODIFIED:20260106T133918Z
UID:10003251-1784793600-1784826000@www.thelinksatbrunello.com
SUMMARY:Corporate Event - Blackout Date
DESCRIPTION:
URL:https://www.thelinksatbrunello.com/brunello-event/corporate-event-blackout-date/2026-07-23
LOCATION:The Links at Brunello\, 120 Brunello Blvd.\, Timberlea\, Nova Scotia\, Canada
END:VEVENT
BEGIN:VEVENT
DTSTART;TZID=America/Halifax:20260724T173000
DTEND;TZID=America/Halifax:20260724T203000
DTSTAMP:20260421T145244
CREATED:20260105T122011Z
LAST-MODIFIED:20260105T122124Z
UID:10003233-1784914200-1784925000@www.thelinksatbrunello.com
SUMMARY:Live Music ft. Stephen McPhee
DESCRIPTION:Join us Friday evenings from 5:30-8:30pm for Live Music featuring Local Talent! \nTo reserve a table call 902.876.3758 or email nineteen@thelinksatbrunello.com
URL:https://www.thelinksatbrunello.com/brunello-event/live-music-ft-sandy-bottom-4
LOCATION:The Links at Brunello\, 120 Brunello Blvd.\, Timberlea\, Nova Scotia\, Canada
ATTACH;FMTTYPE=image/jpeg:https://www.thelinksatbrunello.com/wp-content/uploads/2025/11/9.jpg
END:VEVENT
BEGIN:VEVENT
DTSTART;VALUE=DATE:20260727
DTEND;VALUE=DATE:20260728
DTSTAMP:20260421T145244
CREATED:20260314T183402Z
LAST-MODIFIED:20260314T184306Z
UID:10003332-1785110400-1785196799@www.thelinksatbrunello.com
SUMMARY:Senior League
DESCRIPTION:Our Senior League is all about enjoying the game\, the camaraderie\, and the beautiful surroundings at Brunello.\nWith a relaxed pace and great company\, it’s a fantastic way to stay active and share the love of golf with fellow players.\n\nFor more information on registering contact: \nChris Carlaw | Director of Golf\nccarlaw@thelinksatbrunello.com
URL:https://www.thelinksatbrunello.com/brunello-event/senior-league/2026-07-27
LOCATION:The Links at Brunello\, 120 Brunello Blvd.\, Timberlea\, Nova Scotia\, Canada
ATTACH;FMTTYPE=image/jpeg:https://www.thelinksatbrunello.com/wp-content/uploads/2026/03/CAMPAIGN-SENIOR.jpg
END:VEVENT
BEGIN:VEVENT
DTSTART;VALUE=DATE:20260728
DTEND;VALUE=DATE:20260729
DTSTAMP:20260421T145244
CREATED:20260314T183454Z
LAST-MODIFIED:20260314T184423Z
UID:10003368-1785196800-1785283199@www.thelinksatbrunello.com
SUMMARY:Ladies League
DESCRIPTION:Our Ladies League Nights offer a welcoming and fun environment where golfers of all skill levels can enjoy the game together.\nIt’s the perfect opportunity to connect with friends\, improve your game\, and spend a beautiful evening on the course.\n\nFor more information on registering contact: \nChris Carlaw | Director of Golf\nccarlaw@thelinksatbrunello.com
URL:https://www.thelinksatbrunello.com/brunello-event/ladies-league/2026-07-28
LOCATION:The Links at Brunello\, 120 Brunello Blvd.\, Timberlea\, Nova Scotia\, Canada
ATTACH;FMTTYPE=image/jpeg:https://www.thelinksatbrunello.com/wp-content/uploads/2026/03/CAMPAIGN-LADIES.jpg
END:VEVENT
BEGIN:VEVENT
DTSTART;VALUE=DATE:20260729
DTEND;VALUE=DATE:20260730
DTSTAMP:20260421T145244
CREATED:20260314T183638Z
LAST-MODIFIED:20260314T184500Z
UID:10003404-1785283200-1785369599@www.thelinksatbrunello.com
SUMMARY:Men's League
DESCRIPTION:Our Men’s League Nights bring together great golf\, friendly competition\, and a lively social atmosphere.\nWhether you’re chasing a low score or just enjoying the round with friends\, it’s the perfect midweek escape filled with great shots\, laughs\, and post-round stories. \nFor more information on registering contact: \nChris Carlaw | Director of Golf\nccarlaw@thelinksatbrunello.com
URL:https://www.thelinksatbrunello.com/brunello-event/mens-league/2026-07-29
LOCATION:The Links at Brunello\, 120 Brunello Blvd.\, Timberlea\, Nova Scotia\, Canada
ATTACH;FMTTYPE=image/jpeg:https://www.thelinksatbrunello.com/wp-content/uploads/2026/03/CAMPAIGN-MENS.jpg
END:VEVENT
BEGIN:VEVENT
DTSTART;TZID=America/Halifax:20260731T173000
DTEND;TZID=America/Halifax:20260731T203000
DTSTAMP:20260421T145244
CREATED:20260105T122252Z
LAST-MODIFIED:20260105T122839Z
UID:10003235-1785519000-1785529800@www.thelinksatbrunello.com
SUMMARY:Live Music ft. Tom Bedell
DESCRIPTION:Join us Friday evenings from 5:30-8:30pm for Live Music featuring Local Talent! \nTo reserve a table call 902.876.3758 or email nineteen@thelinksatbrunello.com
URL:https://www.thelinksatbrunello.com/brunello-event/live-music-ft-tom-bedell
LOCATION:The Links at Brunello\, 120 Brunello Blvd.\, Timberlea\, Nova Scotia\, Canada
ATTACH;FMTTYPE=image/jpeg:https://www.thelinksatbrunello.com/wp-content/uploads/2025/11/10.jpg
END:VEVENT
BEGIN:VEVENT
DTSTART;VALUE=DATE:20260803
DTEND;VALUE=DATE:20260804
DTSTAMP:20260421T145244
CREATED:20260314T183402Z
LAST-MODIFIED:20260314T184306Z
UID:10003333-1785715200-1785801599@www.thelinksatbrunello.com
SUMMARY:Senior League
DESCRIPTION:Our Senior League is all about enjoying the game\, the camaraderie\, and the beautiful surroundings at Brunello.\nWith a relaxed pace and great company\, it’s a fantastic way to stay active and share the love of golf with fellow players.\n\nFor more information on registering contact: \nChris Carlaw | Director of Golf\nccarlaw@thelinksatbrunello.com
URL:https://www.thelinksatbrunello.com/brunello-event/senior-league/2026-08-03
LOCATION:The Links at Brunello\, 120 Brunello Blvd.\, Timberlea\, Nova Scotia\, Canada
ATTACH;FMTTYPE=image/jpeg:https://www.thelinksatbrunello.com/wp-content/uploads/2026/03/CAMPAIGN-SENIOR.jpg
END:VEVENT
BEGIN:VEVENT
DTSTART;VALUE=DATE:20260804
DTEND;VALUE=DATE:20260805
DTSTAMP:20260421T145244
CREATED:20260314T183454Z
LAST-MODIFIED:20260314T184423Z
UID:10003369-1785801600-1785887999@www.thelinksatbrunello.com
SUMMARY:Ladies League
DESCRIPTION:Our Ladies League Nights offer a welcoming and fun environment where golfers of all skill levels can enjoy the game together.\nIt’s the perfect opportunity to connect with friends\, improve your game\, and spend a beautiful evening on the course.\n\nFor more information on registering contact: \nChris Carlaw | Director of Golf\nccarlaw@thelinksatbrunello.com
URL:https://www.thelinksatbrunello.com/brunello-event/ladies-league/2026-08-04
LOCATION:The Links at Brunello\, 120 Brunello Blvd.\, Timberlea\, Nova Scotia\, Canada
ATTACH;FMTTYPE=image/jpeg:https://www.thelinksatbrunello.com/wp-content/uploads/2026/03/CAMPAIGN-LADIES.jpg
END:VEVENT
BEGIN:VEVENT
DTSTART;VALUE=DATE:20260805
DTEND;VALUE=DATE:20260806
DTSTAMP:20260421T145244
CREATED:20260314T183638Z
LAST-MODIFIED:20260314T184500Z
UID:10003405-1785888000-1785974399@www.thelinksatbrunello.com
SUMMARY:Men's League
DESCRIPTION:Our Men’s League Nights bring together great golf\, friendly competition\, and a lively social atmosphere.\nWhether you’re chasing a low score or just enjoying the round with friends\, it’s the perfect midweek escape filled with great shots\, laughs\, and post-round stories. \nFor more information on registering contact: \nChris Carlaw | Director of Golf\nccarlaw@thelinksatbrunello.com
URL:https://www.thelinksatbrunello.com/brunello-event/mens-league/2026-08-05
LOCATION:The Links at Brunello\, 120 Brunello Blvd.\, Timberlea\, Nova Scotia\, Canada
ATTACH;FMTTYPE=image/jpeg:https://www.thelinksatbrunello.com/wp-content/uploads/2026/03/CAMPAIGN-MENS.jpg
END:VEVENT
BEGIN:VEVENT
DTSTART;VALUE=DATE:20260806
DTEND;VALUE=DATE:20260807
DTSTAMP:20260421T145244
CREATED:20260106T133918Z
LAST-MODIFIED:20260106T133918Z
UID:10003252-1786003200-1786035600@www.thelinksatbrunello.com
SUMMARY:Corporate Event - Blackout Date
DESCRIPTION:
URL:https://www.thelinksatbrunello.com/brunello-event/corporate-event-blackout-date/2026-08-06
LOCATION:The Links at Brunello\, 120 Brunello Blvd.\, Timberlea\, Nova Scotia\, Canada
END:VEVENT
BEGIN:VEVENT
DTSTART;TZID=America/Halifax:20260807T173000
DTEND;TZID=America/Halifax:20260807T203000
DTSTAMP:20260421T145244
CREATED:20260105T113912Z
LAST-MODIFIED:20260105T113912Z
UID:10003206-1786123800-1786134600@www.thelinksatbrunello.com
SUMMARY:Live Music ft. Jordan Leblanc
DESCRIPTION:Join us Friday evenings from 5:30-8:30pm for Live Music featuring Local Talent! \nTo reserve a table call 902.876.3758 or email nineteen@thelinksatbrunello.com
URL:https://www.thelinksatbrunello.com/brunello-event/live-music-ft-jordan-leblanc-7
LOCATION:The Links at Brunello\, 120 Brunello Blvd.\, Timberlea\, Nova Scotia\, Canada
ATTACH;FMTTYPE=image/jpeg:https://www.thelinksatbrunello.com/wp-content/uploads/2025/11/5.jpg
END:VEVENT
BEGIN:VEVENT
DTSTART;VALUE=DATE:20260808
DTEND;VALUE=DATE:20260810
DTSTAMP:20260421T145244
CREATED:20260106T133204Z
LAST-MODIFIED:20260106T133204Z
UID:10003243-1786147200-1786319999@www.thelinksatbrunello.com
SUMMARY:Club Championship - TLAB Tournament
DESCRIPTION:Information will be available here: http://linktr.ee/thelinksatbrunello
URL:https://www.thelinksatbrunello.com/brunello-event/club-championship-tlab-tournament
LOCATION:The Links at Brunello\, 120 Brunello Blvd.\, Timberlea\, Nova Scotia\, Canada
END:VEVENT
BEGIN:VEVENT
DTSTART;VALUE=DATE:20260810
DTEND;VALUE=DATE:20260811
DTSTAMP:20260421T145244
CREATED:20260314T183402Z
LAST-MODIFIED:20260314T184306Z
UID:10003334-1786320000-1786406399@www.thelinksatbrunello.com
SUMMARY:Senior League
DESCRIPTION:Our Senior League is all about enjoying the game\, the camaraderie\, and the beautiful surroundings at Brunello.\nWith a relaxed pace and great company\, it’s a fantastic way to stay active and share the love of golf with fellow players.\n\nFor more information on registering contact: \nChris Carlaw | Director of Golf\nccarlaw@thelinksatbrunello.com
URL:https://www.thelinksatbrunello.com/brunello-event/senior-league/2026-08-10
LOCATION:The Links at Brunello\, 120 Brunello Blvd.\, Timberlea\, Nova Scotia\, Canada
ATTACH;FMTTYPE=image/jpeg:https://www.thelinksatbrunello.com/wp-content/uploads/2026/03/CAMPAIGN-SENIOR.jpg
END:VEVENT
BEGIN:VEVENT
DTSTART;VALUE=DATE:20260811
DTEND;VALUE=DATE:20260812
DTSTAMP:20260421T145244
CREATED:20260314T183454Z
LAST-MODIFIED:20260314T184423Z
UID:10003370-1786406400-1786492799@www.thelinksatbrunello.com
SUMMARY:Ladies League
DESCRIPTION:Our Ladies League Nights offer a welcoming and fun environment where golfers of all skill levels can enjoy the game together.\nIt’s the perfect opportunity to connect with friends\, improve your game\, and spend a beautiful evening on the course.\n\nFor more information on registering contact: \nChris Carlaw | Director of Golf\nccarlaw@thelinksatbrunello.com
URL:https://www.thelinksatbrunello.com/brunello-event/ladies-league/2026-08-11
LOCATION:The Links at Brunello\, 120 Brunello Blvd.\, Timberlea\, Nova Scotia\, Canada
ATTACH;FMTTYPE=image/jpeg:https://www.thelinksatbrunello.com/wp-content/uploads/2026/03/CAMPAIGN-LADIES.jpg
END:VEVENT
BEGIN:VEVENT
DTSTART;VALUE=DATE:20260812
DTEND;VALUE=DATE:20260813
DTSTAMP:20260421T145244
CREATED:20260314T183638Z
LAST-MODIFIED:20260314T184500Z
UID:10003406-1786492800-1786579199@www.thelinksatbrunello.com
SUMMARY:Men's League
DESCRIPTION:Our Men’s League Nights bring together great golf\, friendly competition\, and a lively social atmosphere.\nWhether you’re chasing a low score or just enjoying the round with friends\, it’s the perfect midweek escape filled with great shots\, laughs\, and post-round stories. \nFor more information on registering contact: \nChris Carlaw | Director of Golf\nccarlaw@thelinksatbrunello.com
URL:https://www.thelinksatbrunello.com/brunello-event/mens-league/2026-08-12
LOCATION:The Links at Brunello\, 120 Brunello Blvd.\, Timberlea\, Nova Scotia\, Canada
ATTACH;FMTTYPE=image/jpeg:https://www.thelinksatbrunello.com/wp-content/uploads/2026/03/CAMPAIGN-MENS.jpg
END:VEVENT
BEGIN:VEVENT
DTSTART;TZID=America/Halifax:20260814T173000
DTEND;TZID=America/Halifax:20260814T203000
DTSTAMP:20260421T145244
CREATED:20260105T124240Z
LAST-MODIFIED:20260105T124240Z
UID:10003238-1786728600-1786739400@www.thelinksatbrunello.com
SUMMARY:Live Music ft. Maurice Aucoin
DESCRIPTION:Join us Friday evenings from 5:30-8:30pm for Live Music featuring Local Talent! \nTo reserve a table call 902.876.3758 or email nineteen@thelinksatbrunello.com
URL:https://www.thelinksatbrunello.com/brunello-event/live-music-ft-maurice-aucoin-8/2026-08-14
LOCATION:The Links at Brunello\, 120 Brunello Blvd.\, Timberlea\, Nova Scotia\, Canada
ATTACH;FMTTYPE=image/jpeg:https://www.thelinksatbrunello.com/wp-content/uploads/2025/11/7.jpg
END:VEVENT
BEGIN:VEVENT
DTSTART;VALUE=DATE:20260817
DTEND;VALUE=DATE:20260818
DTSTAMP:20260421T145244
CREATED:20260314T183402Z
LAST-MODIFIED:20260314T184306Z
UID:10003335-1786924800-1787011199@www.thelinksatbrunello.com
SUMMARY:Senior League
DESCRIPTION:Our Senior League is all about enjoying the game\, the camaraderie\, and the beautiful surroundings at Brunello.\nWith a relaxed pace and great company\, it’s a fantastic way to stay active and share the love of golf with fellow players.\n\nFor more information on registering contact: \nChris Carlaw | Director of Golf\nccarlaw@thelinksatbrunello.com
URL:https://www.thelinksatbrunello.com/brunello-event/senior-league/2026-08-17
LOCATION:The Links at Brunello\, 120 Brunello Blvd.\, Timberlea\, Nova Scotia\, Canada
ATTACH;FMTTYPE=image/jpeg:https://www.thelinksatbrunello.com/wp-content/uploads/2026/03/CAMPAIGN-SENIOR.jpg
END:VEVENT
BEGIN:VEVENT
DTSTART;VALUE=DATE:20260818
DTEND;VALUE=DATE:20260819
DTSTAMP:20260421T145244
CREATED:20260314T183454Z
LAST-MODIFIED:20260314T184423Z
UID:10003371-1787011200-1787097599@www.thelinksatbrunello.com
SUMMARY:Ladies League
DESCRIPTION:Our Ladies League Nights offer a welcoming and fun environment where golfers of all skill levels can enjoy the game together.\nIt’s the perfect opportunity to connect with friends\, improve your game\, and spend a beautiful evening on the course.\n\nFor more information on registering contact: \nChris Carlaw | Director of Golf\nccarlaw@thelinksatbrunello.com
URL:https://www.thelinksatbrunello.com/brunello-event/ladies-league/2026-08-18
LOCATION:The Links at Brunello\, 120 Brunello Blvd.\, Timberlea\, Nova Scotia\, Canada
ATTACH;FMTTYPE=image/jpeg:https://www.thelinksatbrunello.com/wp-content/uploads/2026/03/CAMPAIGN-LADIES.jpg
END:VEVENT
BEGIN:VEVENT
DTSTART;VALUE=DATE:20260819
DTEND;VALUE=DATE:20260820
DTSTAMP:20260421T145244
CREATED:20260314T183638Z
LAST-MODIFIED:20260314T184500Z
UID:10003407-1787097600-1787183999@www.thelinksatbrunello.com
SUMMARY:Men's League
DESCRIPTION:Our Men’s League Nights bring together great golf\, friendly competition\, and a lively social atmosphere.\nWhether you’re chasing a low score or just enjoying the round with friends\, it’s the perfect midweek escape filled with great shots\, laughs\, and post-round stories. \nFor more information on registering contact: \nChris Carlaw | Director of Golf\nccarlaw@thelinksatbrunello.com
URL:https://www.thelinksatbrunello.com/brunello-event/mens-league/2026-08-19
LOCATION:The Links at Brunello\, 120 Brunello Blvd.\, Timberlea\, Nova Scotia\, Canada
ATTACH;FMTTYPE=image/jpeg:https://www.thelinksatbrunello.com/wp-content/uploads/2026/03/CAMPAIGN-MENS.jpg
END:VEVENT
BEGIN:VEVENT
DTSTART;VALUE=DATE:20260820
DTEND;VALUE=DATE:20260821
DTSTAMP:20260421T145244
CREATED:20260106T133918Z
LAST-MODIFIED:20260106T133918Z
UID:10003253-1787212800-1787245200@www.thelinksatbrunello.com
SUMMARY:Corporate Event - Blackout Date
DESCRIPTION:
URL:https://www.thelinksatbrunello.com/brunello-event/corporate-event-blackout-date/2026-08-20
LOCATION:The Links at Brunello\, 120 Brunello Blvd.\, Timberlea\, Nova Scotia\, Canada
END:VEVENT
BEGIN:VEVENT
DTSTART;TZID=America/Halifax:20260821T173000
DTEND;TZID=America/Halifax:20260821T203000
DTSTAMP:20260421T145244
CREATED:20260105T120927Z
LAST-MODIFIED:20260105T120927Z
UID:10003224-1787333400-1787344200@www.thelinksatbrunello.com
SUMMARY:Live Music ft. Terry Main
DESCRIPTION:Join us Friday evenings from 5:30-8:30pm for Live Music featuring Local Talent! \nTo reserve a table call 902.876.3758 or email nineteen@thelinksatbrunello.com
URL:https://www.thelinksatbrunello.com/brunello-event/live-music-ft-terry-main-12/2026-08-21
LOCATION:The Links at Brunello\, 120 Brunello Blvd.\, Timberlea\, Nova Scotia\, Canada
ATTACH;FMTTYPE=image/jpeg:https://www.thelinksatbrunello.com/wp-content/uploads/2025/11/3.jpg
END:VEVENT
BEGIN:VEVENT
DTSTART;VALUE=DATE:20260824
DTEND;VALUE=DATE:20260825
DTSTAMP:20260421T145244
CREATED:20260314T183402Z
LAST-MODIFIED:20260314T184306Z
UID:10003336-1787529600-1787615999@www.thelinksatbrunello.com
SUMMARY:Senior League
DESCRIPTION:Our Senior League is all about enjoying the game\, the camaraderie\, and the beautiful surroundings at Brunello.\nWith a relaxed pace and great company\, it’s a fantastic way to stay active and share the love of golf with fellow players.\n\nFor more information on registering contact: \nChris Carlaw | Director of Golf\nccarlaw@thelinksatbrunello.com
URL:https://www.thelinksatbrunello.com/brunello-event/senior-league/2026-08-24
LOCATION:The Links at Brunello\, 120 Brunello Blvd.\, Timberlea\, Nova Scotia\, Canada
ATTACH;FMTTYPE=image/jpeg:https://www.thelinksatbrunello.com/wp-content/uploads/2026/03/CAMPAIGN-SENIOR.jpg
END:VEVENT
BEGIN:VEVENT
DTSTART;VALUE=DATE:20260825
DTEND;VALUE=DATE:20260826
DTSTAMP:20260421T145244
CREATED:20260314T183454Z
LAST-MODIFIED:20260314T184423Z
UID:10003372-1787616000-1787702399@www.thelinksatbrunello.com
SUMMARY:Ladies League
DESCRIPTION:Our Ladies League Nights offer a welcoming and fun environment where golfers of all skill levels can enjoy the game together.\nIt’s the perfect opportunity to connect with friends\, improve your game\, and spend a beautiful evening on the course.\n\nFor more information on registering contact: \nChris Carlaw | Director of Golf\nccarlaw@thelinksatbrunello.com
URL:https://www.thelinksatbrunello.com/brunello-event/ladies-league/2026-08-25
LOCATION:The Links at Brunello\, 120 Brunello Blvd.\, Timberlea\, Nova Scotia\, Canada
ATTACH;FMTTYPE=image/jpeg:https://www.thelinksatbrunello.com/wp-content/uploads/2026/03/CAMPAIGN-LADIES.jpg
END:VEVENT
BEGIN:VEVENT
DTSTART;VALUE=DATE:20260826
DTEND;VALUE=DATE:20260827
DTSTAMP:20260421T145244
CREATED:20260314T183638Z
LAST-MODIFIED:20260314T184500Z
UID:10003408-1787702400-1787788799@www.thelinksatbrunello.com
SUMMARY:Men's League
DESCRIPTION:Our Men’s League Nights bring together great golf\, friendly competition\, and a lively social atmosphere.\nWhether you’re chasing a low score or just enjoying the round with friends\, it’s the perfect midweek escape filled with great shots\, laughs\, and post-round stories. \nFor more information on registering contact: \nChris Carlaw | Director of Golf\nccarlaw@thelinksatbrunello.com
URL:https://www.thelinksatbrunello.com/brunello-event/mens-league/2026-08-26
LOCATION:The Links at Brunello\, 120 Brunello Blvd.\, Timberlea\, Nova Scotia\, Canada
ATTACH;FMTTYPE=image/jpeg:https://www.thelinksatbrunello.com/wp-content/uploads/2026/03/CAMPAIGN-MENS.jpg
END:VEVENT
END:VCALENDAR